BEGIN:VCALENDAR
CALSCALE:GREGORIAN
VERSION:2.0
PRODID:-//Elixir ICalendar//Mobilizon 5.2.3//EN
BEGIN:VEVENT
ATTACH;FMTTYPE=image/png:https://kids.keskonfai.com/media/27317f097c1d497955fa8c7728006307b6098d695ec1c7b6b69ef4319afd2c7b.png?name=latin_educajouphoto.png
DESCRIPTION:Using the EducaJou app called JouCard for Belgian schools kids to have more fun learning Latin and Nederlands vocabulary as per their schools books (see use cases).\n\n
DTEND;TZID=Europe/Brussels:20260430T000000
DTSTAMP:20260425T020311Z
DTSTART;TZID=Europe/Brussels:20260306T000000
GEO:50.8467372;4.352493
LOCATION:Brussels   Brussels-Capital Brussels-Capital Belgium
ORGANIZER:Ada's Fan Club
STATUS:CONFIRMED
SUMMARY:Preparing EducaJou Apps Use by Belgian Kids to Learn Latin and Nederlands Vocabulary
UID:5373c8f4-e3e0-4566-af57-8ba22a1e25e4
URL:https://kids.keskonfai.com/events/5373c8f4-e3e0-4566-af57-8ba22a1e25e4
END:VEVENT
BEGIN:VEVENT
ATTACH;FMTTYPE=image/jpeg:https://kids.keskonfai.com/media/79e04841983d3b5d3d0785e272c76880a57e9fe689b240fd333dc6909ca0cd4e.jpg?name=Club.jpg
DESCRIPTION:Using the EducaJou app called AutoBD for Belgian schools kids to have more fun learning Latin and Nederlands vocabulary as per their schools books (see use cases).\n\n
DTEND;TZID=Europe/Brussels:20260430T000000
DTSTAMP:20260425T020311Z
DTSTART;TZID=Europe/Brussels:20260306T000000
GEO:50.8467372;4.352493
LOCATION:Brussels   Brussels-Capital Brussels-Capital Belgium
ORGANIZER:Ada's Fan Club
STATUS:CONFIRMED
SUMMARY:Preparing EducaJou AutoBD Comics App Use by Belgian Kids to Learn Nederlands Spelling and Vocabulary
UID:e3038462-cc03-4e0e-a654-f7dafc9739ce
URL:https://kids.keskonfai.com/events/e3038462-cc03-4e0e-a654-f7dafc9739ce
END:VEVENT
BEGIN:VEVENT
ATTACH;FMTTYPE=image/jpeg:https://kids.keskonfai.com/media/58164e054c4db16036d3c1efa89474796f92519d698834bd3e2ca230361b832f.jpg?name=IMG-20260201-WA0022.jpg
DESCRIPTION:Aprentage Literaire is a 19th century French name for a group reading. Celebrating spring time in Brussels with a book reading outdoor (Brussels\, Parc Jadot\, 1050) -\n\nAda and Zangemann\, a tale for all\, kids and adults\, about free software\, skateboards and raspberry ice cream.\n\n\n\n\n\n
DTEND;TZID=Europe/Brussels:20260531T191500
DTSTAMP:20260425T020311Z
DTSTART;TZID=Europe/Brussels:20260531T143000
GEO:50.8217238;4.378214
LOCATION:Parc Jadot - Jadotpark   Ixelles - Elsene Brussels-Capital Belgium
ORGANIZER:Ada's Fan Club
STATUS:CONFIRMED
SUMMARY:Meertalig Arpentage Ada and Zangemann - collective reading in FR (books versions available in EN/FR/NL/DK)
UID:3406bc9d-f44d-4075-b7d5-3b64a26de947
URL:https://kids.keskonfai.com/events/3406bc9d-f44d-4075-b7d5-3b64a26de947
END:VEVENT
BEGIN:VEVENT
ATTACH;FMTTYPE=image/png:https://kids.keskonfai.com/media/43fac014f8b21de715b1b92689309b356323ba7b7b5412ce4404deb162858172.png?name=Code%20Bois.png
DESCRIPTION:Crafting Code at Craft "Comme du Scratch\, mais sans écran ni électronique!"\n\nKids intro to coding using anything else but a PC: Code en Bois - Prendre en main et fabriquer du matériel d'algorithmique débranchée\n\nSchool end get together before summer holidays\n\n
DTEND;TZID=Europe/Brussels:20260628T231500
DTSTAMP:20260425T020311Z
DTSTART;TZID=Europe/Brussels:20260628T000000
GEO:50.833341;4.3700339
LOCATION:66 Rue du Viaduc - Viaductstraat 66 Rue du Viaduc - Viaductstraat 1050 Ixelles - Elsene Brussels-Capital Belgium
ORGANIZER:Ada's Fan Club
STATUS:CONFIRMED
SUMMARY:Craft Code - Kids Intro to Coding Without Using a PC
UID:f14cbf3e-5349-4892-b733-ee8e6f0084f0
URL:https://kids.keskonfai.com/events/f14cbf3e-5349-4892-b733-ee8e6f0084f0
END:VEVENT
END:VCALENDAR
